BEGIN:VCALENDAR
VERSION:2.0
PRODID:-//Pferdepension Storenberg - ECPv6.15.20//NONSGML v1.0//EN
CALSCALE:GREGORIAN
METHOD:PUBLISH
X-WR-CALNAME:Pferdepension Storenberg
X-ORIGINAL-URL:https://storenberg.ch
X-WR-CALDESC:Veranstaltungen für Pferdepension Storenberg
REFRESH-INTERVAL;VALUE=DURATION:PT1H
X-Robots-Tag:noindex
X-PUBLISHED-TTL:PT1H
BEGIN:VTIMEZONE
TZID:Europe/Zurich
BEGIN:DAYLIGHT
TZOFFSETFROM:+0100
TZOFFSETTO:+0200
TZNAME:CEST
DTSTART:20230326T010000
END:DAYLIGHT
BEGIN:STANDARD
TZOFFSETFROM:+0200
TZOFFSETTO:+0100
TZNAME:CET
DTSTART:20231029T010000
END:STANDARD
BEGIN:DAYLIGHT
TZOFFSETFROM:+0100
TZOFFSETTO:+0200
TZNAME:CEST
DTSTART:20240331T010000
END:DAYLIGHT
BEGIN:STANDARD
TZOFFSETFROM:+0200
TZOFFSETTO:+0100
TZNAME:CET
DTSTART:20241027T010000
END:STANDARD
BEGIN:DAYLIGHT
TZOFFSETFROM:+0100
TZOFFSETTO:+0200
TZNAME:CEST
DTSTART:20250330T010000
END:DAYLIGHT
BEGIN:STANDARD
TZOFFSETFROM:+0200
TZOFFSETTO:+0100
TZNAME:CET
DTSTART:20251026T010000
END:STANDARD
END:VTIMEZONE
BEGIN:VEVENT
DTSTART;TZID=Europe/Zurich:20240115T070000
DTEND;TZID=Europe/Zurich:20240115T180000
DTSTAMP:20260419T192450
CREATED:20240111T200545Z
LAST-MODIFIED:20240111T200545Z
UID:29848-1705302000-1705341600@storenberg.ch
SUMMARY:Achtung Bauarbeiten Pferdestall - Reithalle nutzbar
DESCRIPTION:
URL:https://storenberg.ch/event/achtung-bauarbeiten-pferdestall-reithalle-nutzbar-2/
LOCATION:Pferdepension & Reithalle Storenberg\, Rosenbergstrasse 8\, Müllheim\, Thurgau\, 8555\, Schweiz
END:VEVENT
BEGIN:VEVENT
DTSTART;TZID=Europe/Zurich:20240115T103000
DTEND;TZID=Europe/Zurich:20240115T113000
DTSTAMP:20260419T192450
CREATED:20231220T104024Z
LAST-MODIFIED:20240105T205526Z
UID:29579-1705314600-1705318200@storenberg.ch
SUMMARY:10.30-11.30 Hallenpflege
DESCRIPTION:
URL:https://storenberg.ch/event/hallenpflege-3/
LOCATION:Pferdepension & Reithalle Storenberg\, Rosenbergstrasse 8\, Müllheim\, Thurgau\, 8555\, Schweiz
CATEGORIES:Hallenpflege
END:VEVENT
BEGIN:VEVENT
DTSTART;TZID=Europe/Zurich:20240115T150000
DTEND;TZID=Europe/Zurich:20240115T160000
DTSTAMP:20260419T192450
CREATED:20231219T195201Z
LAST-MODIFIED:20231219T195201Z
UID:29529-1705330800-1705334400@storenberg.ch
SUMMARY:15.00-16.00 Reservation M.C.
DESCRIPTION:
URL:https://storenberg.ch/event/15-00-16-00-reservation-m-c-2/
LOCATION:Pferdepension & Reithalle Storenberg\, Rosenbergstrasse 8\, Müllheim\, Thurgau\, 8555\, Schweiz
CATEGORIES:Reserviert
END:VEVENT
BEGIN:VEVENT
DTSTART;TZID=Europe/Zurich:20240115T190000
DTEND;TZID=Europe/Zurich:20240115T210000
DTSTAMP:20260419T192450
CREATED:20231220T102641Z
LAST-MODIFIED:20231220T102641Z
UID:29555-1705345200-1705352400@storenberg.ch
SUMMARY:19.00-21.00 RV Müllheim
DESCRIPTION:
URL:https://storenberg.ch/event/19-00-21-00-rv-muellheim-3/
LOCATION:Pferdepension & Reithalle Storenberg\, Rosenbergstrasse 8\, Müllheim\, Thurgau\, 8555\, Schweiz
CATEGORIES:Reserviert
END:VEVENT
END:VCALENDAR