BEGIN:VCALENDAR
VERSION:2.0
PRODID:-//Pferdepension Storenberg - ECPv6.15.20//NONSGML v1.0//EN
CALSCALE:GREGORIAN
METHOD:PUBLISH
X-WR-CALNAME:Pferdepension Storenberg
X-ORIGINAL-URL:https://storenberg.ch
X-WR-CALDESC:Veranstaltungen für Pferdepension Storenberg
REFRESH-INTERVAL;VALUE=DURATION:PT1H
X-Robots-Tag:noindex
X-PUBLISHED-TTL:PT1H
BEGIN:VTIMEZONE
TZID:Europe/Zurich
BEGIN:DAYLIGHT
TZOFFSETFROM:+0100
TZOFFSETTO:+0200
TZNAME:CEST
DTSTART:20230326T010000
END:DAYLIGHT
BEGIN:STANDARD
TZOFFSETFROM:+0200
TZOFFSETTO:+0100
TZNAME:CET
DTSTART:20231029T010000
END:STANDARD
BEGIN:DAYLIGHT
TZOFFSETFROM:+0100
TZOFFSETTO:+0200
TZNAME:CEST
DTSTART:20240331T010000
END:DAYLIGHT
BEGIN:STANDARD
TZOFFSETFROM:+0200
TZOFFSETTO:+0100
TZNAME:CET
DTSTART:20241027T010000
END:STANDARD
BEGIN:DAYLIGHT
TZOFFSETFROM:+0100
TZOFFSETTO:+0200
TZNAME:CEST
DTSTART:20250330T010000
END:DAYLIGHT
BEGIN:STANDARD
TZOFFSETFROM:+0200
TZOFFSETTO:+0100
TZNAME:CET
DTSTART:20251026T010000
END:STANDARD
END:VTIMEZONE
BEGIN:VEVENT
DTSTART;TZID=Europe/Zurich:20240120T073000
DTEND;TZID=Europe/Zurich:20240120T083000
DTSTAMP:20260419T203338
CREATED:20231227T194503Z
LAST-MODIFIED:20240105T205802Z
UID:29695-1705735800-1705739400@storenberg.ch
SUMMARY:07.30-08.30 Hallenpflege
DESCRIPTION:
URL:https://storenberg.ch/event/hallenpflege-13/
LOCATION:Pferdepension & Reithalle Storenberg\, Rosenbergstrasse 8\, Müllheim\, Thurgau\, 8555\, Schweiz
CATEGORIES:Hallenpflege
END:VEVENT
BEGIN:VEVENT
DTSTART;TZID=Europe/Zurich:20240120T083000
DTEND;TZID=Europe/Zurich:20240120T123000
DTSTAMP:20260419T203338
CREATED:20231219T195938Z
LAST-MODIFIED:20231227T193134Z
UID:29543-1705739400-1705753800@storenberg.ch
SUMMARY:08.30-12.30 Reservation S.Z.
DESCRIPTION:
URL:https://storenberg.ch/event/08-00-17-00-reservation-s-z/
LOCATION:Pferdepension & Reithalle Storenberg\, Rosenbergstrasse 8\, Müllheim\, Thurgau\, 8555\, Schweiz
CATEGORIES:Reserviert
END:VEVENT
BEGIN:VEVENT
DTSTART;TZID=Europe/Zurich:20240120T123000
DTEND;TZID=Europe/Zurich:20240120T133000
DTSTAMP:20260419T203338
CREATED:20231227T193055Z
LAST-MODIFIED:20231227T195151Z
UID:29671-1705753800-1705757400@storenberg.ch
SUMMARY:12.30-13.30 Reservation Pensionäre
DESCRIPTION:
URL:https://storenberg.ch/event/12-30-13-30-reserviert-fuer-pensionaere/
CATEGORIES:Reserviert für Pensionäre
END:VEVENT
BEGIN:VEVENT
DTSTART;TZID=Europe/Zurich:20240120T133000
DTEND;TZID=Europe/Zurich:20240120T180000
DTSTAMP:20260419T203338
CREATED:20231227T193214Z
LAST-MODIFIED:20231227T193214Z
UID:29674-1705757400-1705773600@storenberg.ch
SUMMARY:03.30-18.00 Reservation S.Z.
DESCRIPTION:
URL:https://storenberg.ch/event/03-30-18-00-reservation-s-z/
LOCATION:Pferdepension & Reithalle Storenberg\, Rosenbergstrasse 8\, Müllheim\, Thurgau\, 8555\, Schweiz
CATEGORIES:Reserviert
END:VEVENT
END:VCALENDAR