BEGIN:VCALENDAR
VERSION:2.0
PRODID:-//Pferdepension Storenberg - ECPv6.15.20//NONSGML v1.0//EN
CALSCALE:GREGORIAN
METHOD:PUBLISH
X-WR-CALNAME:Pferdepension Storenberg
X-ORIGINAL-URL:https://storenberg.ch
X-WR-CALDESC:Veranstaltungen für Pferdepension Storenberg
REFRESH-INTERVAL;VALUE=DURATION:PT1H
X-Robots-Tag:noindex
X-PUBLISHED-TTL:PT1H
BEGIN:VTIMEZONE
TZID:Europe/Zurich
BEGIN:DAYLIGHT
TZOFFSETFROM:+0100
TZOFFSETTO:+0200
TZNAME:CEST
DTSTART:20230326T010000
END:DAYLIGHT
BEGIN:STANDARD
TZOFFSETFROM:+0200
TZOFFSETTO:+0100
TZNAME:CET
DTSTART:20231029T010000
END:STANDARD
BEGIN:DAYLIGHT
TZOFFSETFROM:+0100
TZOFFSETTO:+0200
TZNAME:CEST
DTSTART:20240331T010000
END:DAYLIGHT
BEGIN:STANDARD
TZOFFSETFROM:+0200
TZOFFSETTO:+0100
TZNAME:CET
DTSTART:20241027T010000
END:STANDARD
BEGIN:DAYLIGHT
TZOFFSETFROM:+0100
TZOFFSETTO:+0200
TZNAME:CEST
DTSTART:20250330T010000
END:DAYLIGHT
BEGIN:STANDARD
TZOFFSETFROM:+0200
TZOFFSETTO:+0100
TZNAME:CET
DTSTART:20251026T010000
END:STANDARD
END:VTIMEZONE
BEGIN:VEVENT
DTSTART;TZID=Europe/Zurich:20240129T080000
DTEND;TZID=Europe/Zurich:20240129T170000
DTSTAMP:20260419T162545
CREATED:20240125T132822Z
LAST-MODIFIED:20240125T132822Z
UID:29920-1706515200-1706547600@storenberg.ch
SUMMARY:Achtung Bauarbeiten Pferdestall – Reithalle nutzbar
DESCRIPTION:
URL:https://storenberg.ch/event/achtung-bauarbeiten-pferdestall-reithalle-nutzbar-11/
END:VEVENT
BEGIN:VEVENT
DTSTART;TZID=Europe/Zurich:20240129T153000
DTEND;TZID=Europe/Zurich:20240129T163000
DTSTAMP:20260419T162545
CREATED:20231219T195323Z
LAST-MODIFIED:20231219T195323Z
UID:29533-1706542200-1706545800@storenberg.ch
SUMMARY:15.30-16.30 Reservation M.C.
DESCRIPTION:
URL:https://storenberg.ch/event/15-30-16-30-reservation-m-c/
LOCATION:Pferdepension & Reithalle Storenberg\, Rosenbergstrasse 8\, Müllheim\, Thurgau\, 8555\, Schweiz
CATEGORIES:Reserviert
END:VEVENT
BEGIN:VEVENT
DTSTART;TZID=Europe/Zurich:20240129T163000
DTEND;TZID=Europe/Zurich:20240129T173000
DTSTAMP:20260419T162545
CREATED:20231219T195747Z
LAST-MODIFIED:20231219T195747Z
UID:29541-1706545800-1706549400@storenberg.ch
SUMMARY:16.30-17.30 Reservation J.Z.
DESCRIPTION:
URL:https://storenberg.ch/event/16-30-17-30-reservation-j-z-4/
LOCATION:Pferdepension & Reithalle Storenberg\, Rosenbergstrasse 8\, Müllheim\, Thurgau\, 8555\, Schweiz
CATEGORIES:Reserviert
END:VEVENT
END:VCALENDAR