BEGIN:VCALENDAR
VERSION:2.0
PRODID:-//Pferdepension Storenberg - ECPv6.15.20//NONSGML v1.0//EN
CALSCALE:GREGORIAN
METHOD:PUBLISH
X-WR-CALNAME:Pferdepension Storenberg
X-ORIGINAL-URL:https://storenberg.ch
X-WR-CALDESC:Veranstaltungen für Pferdepension Storenberg
REFRESH-INTERVAL;VALUE=DURATION:PT1H
X-Robots-Tag:noindex
X-PUBLISHED-TTL:PT1H
BEGIN:VTIMEZONE
TZID:Europe/Zurich
BEGIN:DAYLIGHT
TZOFFSETFROM:+0100
TZOFFSETTO:+0200
TZNAME:CEST
DTSTART:20230326T010000
END:DAYLIGHT
BEGIN:STANDARD
TZOFFSETFROM:+0200
TZOFFSETTO:+0100
TZNAME:CET
DTSTART:20231029T010000
END:STANDARD
BEGIN:DAYLIGHT
TZOFFSETFROM:+0100
TZOFFSETTO:+0200
TZNAME:CEST
DTSTART:20240331T010000
END:DAYLIGHT
BEGIN:STANDARD
TZOFFSETFROM:+0200
TZOFFSETTO:+0100
TZNAME:CET
DTSTART:20241027T010000
END:STANDARD
BEGIN:DAYLIGHT
TZOFFSETFROM:+0100
TZOFFSETTO:+0200
TZNAME:CEST
DTSTART:20250330T010000
END:DAYLIGHT
BEGIN:STANDARD
TZOFFSETFROM:+0200
TZOFFSETTO:+0100
TZNAME:CET
DTSTART:20251026T010000
END:STANDARD
END:VTIMEZONE
BEGIN:VEVENT
DTSTART;TZID=Europe/Zurich:20240131T080000
DTEND;TZID=Europe/Zurich:20240131T170000
DTSTAMP:20260419T174934
CREATED:20240125T132848Z
LAST-MODIFIED:20240125T132848Z
UID:29924-1706688000-1706720400@storenberg.ch
SUMMARY:Achtung Bauarbeiten Pferdestall – Reithalle nutzbar
DESCRIPTION:
URL:https://storenberg.ch/event/achtung-bauarbeiten-pferdestall-reithalle-nutzbar-13/
END:VEVENT
BEGIN:VEVENT
DTSTART;TZID=Europe/Zurich:20240131T133000
DTEND;TZID=Europe/Zurich:20240131T143000
DTSTAMP:20260419T174934
CREATED:20240125T132630Z
LAST-MODIFIED:20240125T132630Z
UID:29915-1706707800-1706711400@storenberg.ch
SUMMARY:13.30-14.30 Reservation C.H.
DESCRIPTION:
URL:https://storenberg.ch/event/13-30-14-30-reservation-c-h/
CATEGORIES:Reserviert
END:VEVENT
BEGIN:VEVENT
DTSTART;TZID=Europe/Zurich:20240131T143000
DTEND;TZID=Europe/Zurich:20240131T153000
DTSTAMP:20260419T174934
CREATED:20231220T104557Z
LAST-MODIFIED:20240117T192541Z
UID:29592-1706711400-1706715000@storenberg.ch
SUMMARY:14.30-15.30 Reservation M.L.
DESCRIPTION:
URL:https://storenberg.ch/event/14-30-16-00-reservation-m-l-4/
LOCATION:Pferdepension & Reithalle Storenberg\, Rosenbergstrasse 8\, Müllheim\, Thurgau\, 8555\, Schweiz
CATEGORIES:Reserviert
END:VEVENT
END:VCALENDAR