BEGIN:VCALENDAR
VERSION:2.0
PRODID:-//Pferdepension Storenberg - ECPv6.15.20//NONSGML v1.0//EN
CALSCALE:GREGORIAN
METHOD:PUBLISH
X-WR-CALNAME:Pferdepension Storenberg
X-ORIGINAL-URL:https://storenberg.ch
X-WR-CALDESC:Veranstaltungen für Pferdepension Storenberg
REFRESH-INTERVAL;VALUE=DURATION:PT1H
X-Robots-Tag:noindex
X-PUBLISHED-TTL:PT1H
BEGIN:VTIMEZONE
TZID:Europe/Zurich
BEGIN:DAYLIGHT
TZOFFSETFROM:+0100
TZOFFSETTO:+0200
TZNAME:CEST
DTSTART:20230326T010000
END:DAYLIGHT
BEGIN:STANDARD
TZOFFSETFROM:+0200
TZOFFSETTO:+0100
TZNAME:CET
DTSTART:20231029T010000
END:STANDARD
BEGIN:DAYLIGHT
TZOFFSETFROM:+0100
TZOFFSETTO:+0200
TZNAME:CEST
DTSTART:20240331T010000
END:DAYLIGHT
BEGIN:STANDARD
TZOFFSETFROM:+0200
TZOFFSETTO:+0100
TZNAME:CET
DTSTART:20241027T010000
END:STANDARD
BEGIN:DAYLIGHT
TZOFFSETFROM:+0100
TZOFFSETTO:+0200
TZNAME:CEST
DTSTART:20250330T010000
END:DAYLIGHT
BEGIN:STANDARD
TZOFFSETFROM:+0200
TZOFFSETTO:+0100
TZNAME:CET
DTSTART:20251026T010000
END:STANDARD
END:VTIMEZONE
BEGIN:VEVENT
DTSTART;TZID=Europe/Zurich:20240202T080000
DTEND;TZID=Europe/Zurich:20240202T170000
DTSTAMP:20260419T162555
CREATED:20240125T132914Z
LAST-MODIFIED:20240125T132914Z
UID:29928-1706860800-1706893200@storenberg.ch
SUMMARY:Achtung Bauarbeiten Pferdestall – Reithalle nutzbar
DESCRIPTION:
URL:https://storenberg.ch/event/achtung-bauarbeiten-pferdestall-reithalle-nutzbar-15/
END:VEVENT
BEGIN:VEVENT
DTSTART;TZID=Europe/Zurich:20240202T093000
DTEND;TZID=Europe/Zurich:20240202T103000
DTSTAMP:20260419T162555
CREATED:20231227T201241Z
LAST-MODIFIED:20231227T201241Z
UID:29741-1706866200-1706869800@storenberg.ch
SUMMARY:09.30-10.30 Reservation J.B.
DESCRIPTION:
URL:https://storenberg.ch/event/09-30-10-30-reservation-j-b-9/
LOCATION:Pferdepension & Reithalle Storenberg\, Rosenbergstrasse 8\, Müllheim\, Thurgau\, 8555\, Schweiz
CATEGORIES:Reserviert
END:VEVENT
END:VCALENDAR