BEGIN:VCALENDAR
VERSION:2.0
PRODID:-//Pferdepension Storenberg - ECPv6.15.20//NONSGML v1.0//EN
CALSCALE:GREGORIAN
METHOD:PUBLISH
X-ORIGINAL-URL:https://storenberg.ch
X-WR-CALDESC:Veranstaltungen für Pferdepension Storenberg
REFRESH-INTERVAL;VALUE=DURATION:PT1H
X-Robots-Tag:noindex
X-PUBLISHED-TTL:PT1H
BEGIN:VTIMEZONE
TZID:Europe/Zurich
BEGIN:DAYLIGHT
TZOFFSETFROM:+0100
TZOFFSETTO:+0200
TZNAME:CEST
DTSTART:20230326T010000
END:DAYLIGHT
BEGIN:STANDARD
TZOFFSETFROM:+0200
TZOFFSETTO:+0100
TZNAME:CET
DTSTART:20231029T010000
END:STANDARD
BEGIN:DAYLIGHT
TZOFFSETFROM:+0100
TZOFFSETTO:+0200
TZNAME:CEST
DTSTART:20240331T010000
END:DAYLIGHT
BEGIN:STANDARD
TZOFFSETFROM:+0200
TZOFFSETTO:+0100
TZNAME:CET
DTSTART:20241027T010000
END:STANDARD
BEGIN:DAYLIGHT
TZOFFSETFROM:+0100
TZOFFSETTO:+0200
TZNAME:CEST
DTSTART:20250330T010000
END:DAYLIGHT
BEGIN:STANDARD
TZOFFSETFROM:+0200
TZOFFSETTO:+0100
TZNAME:CET
DTSTART:20251026T010000
END:STANDARD
END:VTIMEZONE
BEGIN:VEVENT
DTSTART;TZID=Europe/Zurich:20240212T080000
DTEND;TZID=Europe/Zurich:20240212T170000
DTSTAMP:20260419T163540
CREATED:20240207T083545Z
LAST-MODIFIED:20240207T083545Z
UID:29972-1707724800-1707757200@storenberg.ch
SUMMARY:Achtung Bauarbeiten Pferdestall – Reithalle nutzbar
DESCRIPTION:
URL:https://storenberg.ch/event/achtung-bauarbeiten-pferdestall-reithalle-nutzbar-19/
END:VEVENT
BEGIN:VEVENT
DTSTART;TZID=Europe/Zurich:20240212T103000
DTEND;TZID=Europe/Zurich:20240212T113000
DTSTAMP:20260419T163540
CREATED:20231227T201701Z
LAST-MODIFIED:20231227T201701Z
UID:29753-1707733800-1707737400@storenberg.ch
SUMMARY:Hallenpflege
DESCRIPTION:
URL:https://storenberg.ch/event/hallenpflege-18/
LOCATION:Pferdepension & Reithalle Storenberg\, Rosenbergstrasse 8\, Müllheim\, Thurgau\, 8555\, Schweiz
CATEGORIES:Hallenpflege
END:VEVENT
BEGIN:VEVENT
DTSTART;TZID=Europe/Zurich:20240212T150000
DTEND;TZID=Europe/Zurich:20240212T160000
DTSTAMP:20260419T163540
CREATED:20231227T200400Z
LAST-MODIFIED:20240123T093010Z
UID:29717-1707750000-1707753600@storenberg.ch
SUMMARY:15.00-16.00 Reservation M.C.
DESCRIPTION:
URL:https://storenberg.ch/event/15-30-16-30-reservation-m-c-3/
LOCATION:Pferdepension & Reithalle Storenberg\, Rosenbergstrasse 8\, Müllheim\, Thurgau\, 8555\, Schweiz
CATEGORIES:Reserviert
END:VEVENT
BEGIN:VEVENT
DTSTART;TZID=Europe/Zurich:20240212T163000
DTEND;TZID=Europe/Zurich:20240212T173000
DTSTAMP:20260419T163540
CREATED:20231227T200809Z
LAST-MODIFIED:20231227T200809Z
UID:29727-1707755400-1707759000@storenberg.ch
SUMMARY:16.30-17.30 Reservation J.Z.
DESCRIPTION:
URL:https://storenberg.ch/event/16-30-17-30-reservation-j-z-6/
CATEGORIES:Reserviert
END:VEVENT
BEGIN:VEVENT
DTSTART;TZID=Europe/Zurich:20240212T190000
DTEND;TZID=Europe/Zurich:20240212T203000
DTSTAMP:20260419T163540
CREATED:20231220T102957Z
LAST-MODIFIED:20240121T185042Z
UID:29560-1707764400-1707769800@storenberg.ch
SUMMARY:19.00-20.30 RV Müllheim
DESCRIPTION:
URL:https://storenberg.ch/event/19-00-21-00-rv-muellheim-5/
LOCATION:Pferdepension & Reithalle Storenberg\, Rosenbergstrasse 8\, Müllheim\, Thurgau\, 8555\, Schweiz
CATEGORIES:Reserviert
END:VEVENT
END:VCALENDAR