BEGIN:VCALENDAR
VERSION:2.0
PRODID:-//Pferdepension Storenberg - ECPv6.15.20//NONSGML v1.0//EN
CALSCALE:GREGORIAN
METHOD:PUBLISH
X-ORIGINAL-URL:https://storenberg.ch
X-WR-CALDESC:Veranstaltungen für Pferdepension Storenberg
REFRESH-INTERVAL;VALUE=DURATION:PT1H
X-Robots-Tag:noindex
X-PUBLISHED-TTL:PT1H
BEGIN:VTIMEZONE
TZID:Europe/Zurich
BEGIN:DAYLIGHT
TZOFFSETFROM:+0100
TZOFFSETTO:+0200
TZNAME:CEST
DTSTART:20230326T010000
END:DAYLIGHT
BEGIN:STANDARD
TZOFFSETFROM:+0200
TZOFFSETTO:+0100
TZNAME:CET
DTSTART:20231029T010000
END:STANDARD
BEGIN:DAYLIGHT
TZOFFSETFROM:+0100
TZOFFSETTO:+0200
TZNAME:CEST
DTSTART:20240331T010000
END:DAYLIGHT
BEGIN:STANDARD
TZOFFSETFROM:+0200
TZOFFSETTO:+0100
TZNAME:CET
DTSTART:20241027T010000
END:STANDARD
BEGIN:DAYLIGHT
TZOFFSETFROM:+0100
TZOFFSETTO:+0200
TZNAME:CEST
DTSTART:20250330T010000
END:DAYLIGHT
BEGIN:STANDARD
TZOFFSETFROM:+0200
TZOFFSETTO:+0100
TZNAME:CET
DTSTART:20251026T010000
END:STANDARD
END:VTIMEZONE
BEGIN:VEVENT
DTSTART;TZID=Europe/Zurich:20240225T080000
DTEND;TZID=Europe/Zurich:20240225T123000
DTSTAMP:20260419T163508
CREATED:20231227T195339Z
LAST-MODIFIED:20240220T185102Z
UID:29704-1708848000-1708864200@storenberg.ch
SUMMARY:08.00-12.30 Freispringen RV Müllheim
DESCRIPTION:
URL:https://storenberg.ch/event/freispringen-rv-muellheim-2/
LOCATION:Pferdepension & Reithalle Storenberg\, Rosenbergstrasse 8\, Müllheim\, Thurgau\, 8555\, Schweiz
CATEGORIES:Events,Reserviert
END:VEVENT
BEGIN:VEVENT
DTSTART;TZID=Europe/Zurich:20240225T123000
DTEND;TZID=Europe/Zurich:20240225T133000
DTSTAMP:20260419T163508
CREATED:20240121T190455Z
LAST-MODIFIED:20240220T185158Z
UID:29903-1708864200-1708867800@storenberg.ch
SUMMARY:12.30-13.30 Hallenpflege
DESCRIPTION:
URL:https://storenberg.ch/event/17-00-18-00-hallenpflege/
CATEGORIES:Hallenpflege
END:VEVENT
END:VCALENDAR