BEGIN:VCALENDAR
VERSION:2.0
PRODID:-//Pferdepension Storenberg - ECPv6.15.20//NONSGML v1.0//EN
CALSCALE:GREGORIAN
METHOD:PUBLISH
X-WR-CALNAME:Pferdepension Storenberg
X-ORIGINAL-URL:https://storenberg.ch
X-WR-CALDESC:Veranstaltungen für Pferdepension Storenberg
REFRESH-INTERVAL;VALUE=DURATION:PT1H
X-Robots-Tag:noindex
X-PUBLISHED-TTL:PT1H
BEGIN:VTIMEZONE
TZID:Europe/Zurich
BEGIN:DAYLIGHT
TZOFFSETFROM:+0100
TZOFFSETTO:+0200
TZNAME:CEST
DTSTART:20230326T010000
END:DAYLIGHT
BEGIN:STANDARD
TZOFFSETFROM:+0200
TZOFFSETTO:+0100
TZNAME:CET
DTSTART:20231029T010000
END:STANDARD
BEGIN:DAYLIGHT
TZOFFSETFROM:+0100
TZOFFSETTO:+0200
TZNAME:CEST
DTSTART:20240331T010000
END:DAYLIGHT
BEGIN:STANDARD
TZOFFSETFROM:+0200
TZOFFSETTO:+0100
TZNAME:CET
DTSTART:20241027T010000
END:STANDARD
BEGIN:DAYLIGHT
TZOFFSETFROM:+0100
TZOFFSETTO:+0200
TZNAME:CEST
DTSTART:20250330T010000
END:DAYLIGHT
BEGIN:STANDARD
TZOFFSETFROM:+0200
TZOFFSETTO:+0100
TZNAME:CET
DTSTART:20251026T010000
END:STANDARD
END:VTIMEZONE
BEGIN:VEVENT
DTSTART;TZID=Europe/Zurich:20240309T083000
DTEND;TZID=Europe/Zurich:20240309T170000
DTSTAMP:20260419T154330
CREATED:20240207T084225Z
LAST-MODIFIED:20240308T104206Z
UID:29989-1709973000-1710003600@storenberg.ch
SUMMARY:08.30-17.00 Reservation S.Z.
DESCRIPTION:
URL:https://storenberg.ch/event/08-30-18-00-reservation-s-z/
CATEGORIES:Reserviert
END:VEVENT
BEGIN:VEVENT
DTSTART;TZID=Europe/Zurich:20240309T123000
DTEND;TZID=Europe/Zurich:20240309T133000
DTSTAMP:20260419T154330
CREATED:20240308T170437Z
LAST-MODIFIED:20240308T170437Z
UID:30161-1709987400-1709991000@storenberg.ch
SUMMARY:12.30-13.30 Reservation Pensionäre
DESCRIPTION:
URL:https://storenberg.ch/event/12-30-13-30-reservation-pensionaere-2/
CATEGORIES:Reserviert für Pensionäre
END:VEVENT
END:VCALENDAR