BEGIN:VCALENDAR
VERSION:2.0
PRODID:-//Pferdepension Storenberg - ECPv6.15.20//NONSGML v1.0//EN
CALSCALE:GREGORIAN
METHOD:PUBLISH
X-WR-CALNAME:Pferdepension Storenberg
X-ORIGINAL-URL:https://storenberg.ch
X-WR-CALDESC:Veranstaltungen für Pferdepension Storenberg
REFRESH-INTERVAL;VALUE=DURATION:PT1H
X-Robots-Tag:noindex
X-PUBLISHED-TTL:PT1H
BEGIN:VTIMEZONE
TZID:Europe/Zurich
BEGIN:DAYLIGHT
TZOFFSETFROM:+0100
TZOFFSETTO:+0200
TZNAME:CEST
DTSTART:20230326T010000
END:DAYLIGHT
BEGIN:STANDARD
TZOFFSETFROM:+0200
TZOFFSETTO:+0100
TZNAME:CET
DTSTART:20231029T010000
END:STANDARD
BEGIN:DAYLIGHT
TZOFFSETFROM:+0100
TZOFFSETTO:+0200
TZNAME:CEST
DTSTART:20240331T010000
END:DAYLIGHT
BEGIN:STANDARD
TZOFFSETFROM:+0200
TZOFFSETTO:+0100
TZNAME:CET
DTSTART:20241027T010000
END:STANDARD
BEGIN:DAYLIGHT
TZOFFSETFROM:+0100
TZOFFSETTO:+0200
TZNAME:CEST
DTSTART:20250330T010000
END:DAYLIGHT
BEGIN:STANDARD
TZOFFSETFROM:+0200
TZOFFSETTO:+0100
TZNAME:CET
DTSTART:20251026T010000
END:STANDARD
END:VTIMEZONE
BEGIN:VEVENT
DTSTART;TZID=Europe/Zurich:20240312T093000
DTEND;TZID=Europe/Zurich:20240312T103000
DTSTAMP:20260419T165036
CREATED:20240220T185805Z
LAST-MODIFIED:20240220T185805Z
UID:30049-1710235800-1710239400@storenberg.ch
SUMMARY:09.30-10.30 Reservation J.B.
DESCRIPTION:
URL:https://storenberg.ch/event/09-30-10-30-reservation-j-b-15/
CATEGORIES:Reserviert
END:VEVENT
BEGIN:VEVENT
DTSTART;TZID=Europe/Zurich:20240312T103000
DTEND;TZID=Europe/Zurich:20240312T113000
DTSTAMP:20260419T165036
CREATED:20240207T085315Z
LAST-MODIFIED:20240220T191822Z
UID:30010-1710239400-1710243000@storenberg.ch
SUMMARY:Hallenpflege
DESCRIPTION:
URL:https://storenberg.ch/event/hallenpflege-16/
CATEGORIES:Hallenpflege
END:VEVENT
BEGIN:VEVENT
DTSTART;TZID=Europe/Zurich:20240312T173000
DTEND;TZID=Europe/Zurich:20240312T183000
DTSTAMP:20260419T165036
CREATED:20240220T191128Z
LAST-MODIFIED:20240220T191857Z
UID:30061-1710264600-1710268200@storenberg.ch
SUMMARY:17.30-18.30 Reservation J.S.
DESCRIPTION:
URL:https://storenberg.ch/event/17-30-18-30-reservation-j-s-2/
CATEGORIES:Reserviert
END:VEVENT
BEGIN:VEVENT
DTSTART;TZID=Europe/Zurich:20240312T183000
DTEND;TZID=Europe/Zurich:20240312T213000
DTSTAMP:20260419T165036
CREATED:20240220T191247Z
LAST-MODIFIED:20240220T191247Z
UID:30065-1710268200-1710279000@storenberg.ch
SUMMARY:18.30-21.30 Reservation Pensionäre
DESCRIPTION:
URL:https://storenberg.ch/event/18-30-21-30-reservation-pensionaere-10/
CATEGORIES:Reserviert für Pensionäre
END:VEVENT
END:VCALENDAR