BEGIN:VCALENDAR
VERSION:2.0
PRODID:-//Pferdepension Storenberg - ECPv6.15.20//NONSGML v1.0//EN
CALSCALE:GREGORIAN
METHOD:PUBLISH
X-WR-CALNAME:Pferdepension Storenberg
X-ORIGINAL-URL:https://storenberg.ch
X-WR-CALDESC:Veranstaltungen für Pferdepension Storenberg
REFRESH-INTERVAL;VALUE=DURATION:PT1H
X-Robots-Tag:noindex
X-PUBLISHED-TTL:PT1H
BEGIN:VTIMEZONE
TZID:Europe/Zurich
BEGIN:DAYLIGHT
TZOFFSETFROM:+0100
TZOFFSETTO:+0200
TZNAME:CEST
DTSTART:20230326T010000
END:DAYLIGHT
BEGIN:STANDARD
TZOFFSETFROM:+0200
TZOFFSETTO:+0100
TZNAME:CET
DTSTART:20231029T010000
END:STANDARD
BEGIN:DAYLIGHT
TZOFFSETFROM:+0100
TZOFFSETTO:+0200
TZNAME:CEST
DTSTART:20240331T010000
END:DAYLIGHT
BEGIN:STANDARD
TZOFFSETFROM:+0200
TZOFFSETTO:+0100
TZNAME:CET
DTSTART:20241027T010000
END:STANDARD
BEGIN:DAYLIGHT
TZOFFSETFROM:+0100
TZOFFSETTO:+0200
TZNAME:CEST
DTSTART:20250330T010000
END:DAYLIGHT
BEGIN:STANDARD
TZOFFSETFROM:+0200
TZOFFSETTO:+0100
TZNAME:CET
DTSTART:20251026T010000
END:STANDARD
END:VTIMEZONE
BEGIN:VEVENT
DTSTART;TZID=Europe/Zurich:20240318T163000
DTEND;TZID=Europe/Zurich:20240318T173000
DTSTAMP:20260419T192851
CREATED:20240225T174725Z
LAST-MODIFIED:20240225T174725Z
UID:30110-1710779400-1710783000@storenberg.ch
SUMMARY:16.30-17.30 Reservation J.Z.
DESCRIPTION:
URL:https://storenberg.ch/event/16-30-17-30-reservation-j-z-5/
CATEGORIES:Reserviert
END:VEVENT
BEGIN:VEVENT
DTSTART;TZID=Europe/Zurich:20240318T190000
DTEND;TZID=Europe/Zurich:20240318T200000
DTSTAMP:20260419T192851
CREATED:20240207T084832Z
LAST-MODIFIED:20240225T174556Z
UID:30002-1710788400-1710792000@storenberg.ch
SUMMARY:19.00-20.00 RV Müllheim
DESCRIPTION:
URL:https://storenberg.ch/event/19-00-20-30-rv-muellheim-3/
CATEGORIES:Reserviert
END:VEVENT
END:VCALENDAR