BEGIN:VCALENDAR
VERSION:2.0
PRODID:-//Pferdepension Storenberg - ECPv6.15.20//NONSGML v1.0//EN
CALSCALE:GREGORIAN
METHOD:PUBLISH
X-WR-CALNAME:Pferdepension Storenberg
X-ORIGINAL-URL:https://storenberg.ch
X-WR-CALDESC:Veranstaltungen für Pferdepension Storenberg
REFRESH-INTERVAL;VALUE=DURATION:PT1H
X-Robots-Tag:noindex
X-PUBLISHED-TTL:PT1H
BEGIN:VTIMEZONE
TZID:Europe/Zurich
BEGIN:DAYLIGHT
TZOFFSETFROM:+0100
TZOFFSETTO:+0200
TZNAME:CEST
DTSTART:20230326T010000
END:DAYLIGHT
BEGIN:STANDARD
TZOFFSETFROM:+0200
TZOFFSETTO:+0100
TZNAME:CET
DTSTART:20231029T010000
END:STANDARD
BEGIN:DAYLIGHT
TZOFFSETFROM:+0100
TZOFFSETTO:+0200
TZNAME:CEST
DTSTART:20240331T010000
END:DAYLIGHT
BEGIN:STANDARD
TZOFFSETFROM:+0200
TZOFFSETTO:+0100
TZNAME:CET
DTSTART:20241027T010000
END:STANDARD
BEGIN:DAYLIGHT
TZOFFSETFROM:+0100
TZOFFSETTO:+0200
TZNAME:CEST
DTSTART:20250330T010000
END:DAYLIGHT
BEGIN:STANDARD
TZOFFSETFROM:+0200
TZOFFSETTO:+0100
TZNAME:CET
DTSTART:20251026T010000
END:STANDARD
END:VTIMEZONE
BEGIN:VEVENT
DTSTART;TZID=Europe/Zurich:20240319T093000
DTEND;TZID=Europe/Zurich:20240319T103000
DTSTAMP:20260419T180317
CREATED:20240220T190903Z
LAST-MODIFIED:20240220T190903Z
UID:30053-1710840600-1710844200@storenberg.ch
SUMMARY:09.30-10.30 Reservation J.B.
DESCRIPTION:
URL:https://storenberg.ch/event/09-30-10-30-reservation-j-b-17/
CATEGORIES:Reserviert
END:VEVENT
BEGIN:VEVENT
DTSTART;TZID=Europe/Zurich:20240319T103000
DTEND;TZID=Europe/Zurich:20240319T113000
DTSTAMP:20260419T180317
CREATED:20240207T085339Z
LAST-MODIFIED:20240220T191932Z
UID:30012-1710844200-1710847800@storenberg.ch
SUMMARY:Hallenpflege
DESCRIPTION:
URL:https://storenberg.ch/event/hallenpflege-22/
CATEGORIES:Hallenpflege
END:VEVENT
BEGIN:VEVENT
DTSTART;TZID=Europe/Zurich:20240319T183000
DTEND;TZID=Europe/Zurich:20240319T213000
DTSTAMP:20260419T180317
CREATED:20240220T191317Z
LAST-MODIFIED:20240220T191317Z
UID:30067-1710873000-1710883800@storenberg.ch
SUMMARY:18.30-21.30 Reservation Pensionäre
DESCRIPTION:
URL:https://storenberg.ch/event/18-30-21-30-reservation-pensionaere-11/
CATEGORIES:Reserviert für Pensionäre
END:VEVENT
END:VCALENDAR