BEGIN:VCALENDAR
VERSION:2.0
PRODID:-//Pferdepension Storenberg - ECPv6.15.20//NONSGML v1.0//EN
CALSCALE:GREGORIAN
METHOD:PUBLISH
X-ORIGINAL-URL:https://storenberg.ch
X-WR-CALDESC:Veranstaltungen für Pferdepension Storenberg
REFRESH-INTERVAL;VALUE=DURATION:PT1H
X-Robots-Tag:noindex
X-PUBLISHED-TTL:PT1H
BEGIN:VTIMEZONE
TZID:Europe/Zurich
BEGIN:DAYLIGHT
TZOFFSETFROM:+0100
TZOFFSETTO:+0200
TZNAME:CEST
DTSTART:20230326T010000
END:DAYLIGHT
BEGIN:STANDARD
TZOFFSETFROM:+0200
TZOFFSETTO:+0100
TZNAME:CET
DTSTART:20231029T010000
END:STANDARD
BEGIN:DAYLIGHT
TZOFFSETFROM:+0100
TZOFFSETTO:+0200
TZNAME:CEST
DTSTART:20240331T010000
END:DAYLIGHT
BEGIN:STANDARD
TZOFFSETFROM:+0200
TZOFFSETTO:+0100
TZNAME:CET
DTSTART:20241027T010000
END:STANDARD
BEGIN:DAYLIGHT
TZOFFSETFROM:+0100
TZOFFSETTO:+0200
TZNAME:CEST
DTSTART:20250330T010000
END:DAYLIGHT
BEGIN:STANDARD
TZOFFSETFROM:+0200
TZOFFSETTO:+0100
TZNAME:CET
DTSTART:20251026T010000
END:STANDARD
END:VTIMEZONE
BEGIN:VEVENT
DTSTART;TZID=Europe/Zurich:20240721T123000
DTEND;TZID=Europe/Zurich:20240721T143000
DTSTAMP:20260419T143545
CREATED:20240627T080947Z
LAST-MODIFIED:20240627T080947Z
UID:30664-1721565000-1721572200@storenberg.ch
SUMMARY:12.30-14.30 Reservation C.H.
DESCRIPTION:
URL:https://storenberg.ch/event/12-30-14-30-reservation-c-h-2/
CATEGORIES:Reserviert
END:VEVENT
BEGIN:VEVENT
DTSTART;TZID=Europe/Zurich:20240721T160000
DTEND;TZID=Europe/Zurich:20240721T170000
DTSTAMP:20260419T143545
CREATED:20240716T105414Z
LAST-MODIFIED:20240716T105414Z
UID:30701-1721577600-1721581200@storenberg.ch
SUMMARY:16.00-17.00 Reservation N.M.
DESCRIPTION:
URL:https://storenberg.ch/event/16-00-17-00-reservation-n-m/
CATEGORIES:Reserviert
END:VEVENT
END:VCALENDAR