BEGIN:VCALENDAR
VERSION:2.0
PRODID:-//Pferdepension Storenberg - ECPv6.15.20//NONSGML v1.0//EN
CALSCALE:GREGORIAN
METHOD:PUBLISH
X-WR-CALNAME:Pferdepension Storenberg
X-ORIGINAL-URL:https://storenberg.ch
X-WR-CALDESC:Veranstaltungen für Pferdepension Storenberg
REFRESH-INTERVAL;VALUE=DURATION:PT1H
X-Robots-Tag:noindex
X-PUBLISHED-TTL:PT1H
BEGIN:VTIMEZONE
TZID:Europe/Zurich
BEGIN:DAYLIGHT
TZOFFSETFROM:+0100
TZOFFSETTO:+0200
TZNAME:CEST
DTSTART:20250330T010000
END:DAYLIGHT
BEGIN:STANDARD
TZOFFSETFROM:+0200
TZOFFSETTO:+0100
TZNAME:CET
DTSTART:20251026T010000
END:STANDARD
BEGIN:DAYLIGHT
TZOFFSETFROM:+0100
TZOFFSETTO:+0200
TZNAME:CEST
DTSTART:20260329T010000
END:DAYLIGHT
BEGIN:STANDARD
TZOFFSETFROM:+0200
TZOFFSETTO:+0100
TZNAME:CET
DTSTART:20261025T010000
END:STANDARD
BEGIN:DAYLIGHT
TZOFFSETFROM:+0100
TZOFFSETTO:+0200
TZNAME:CEST
DTSTART:20270328T010000
END:DAYLIGHT
BEGIN:STANDARD
TZOFFSETFROM:+0200
TZOFFSETTO:+0100
TZNAME:CET
DTSTART:20271031T010000
END:STANDARD
END:VTIMEZONE
BEGIN:VEVENT
DTSTART;VALUE=DATE:20260425
DTEND;VALUE=DATE:20260426
DTSTAMP:20260426T060659
CREATED:20260114T122633Z
LAST-MODIFIED:20260114T122633Z
UID:31936-1777075200-1777161599@storenberg.ch
SUMMARY:Jugendförderung SWRA
DESCRIPTION:
URL:https://storenberg.ch/event/jugendfoerderung-swra/
CATEGORIES:Events,Reserviert
END:VEVENT
BEGIN:VEVENT
DTSTART;TZID=Europe/Zurich:20260424T163000
DTEND;TZID=Europe/Zurich:20260424T200000
DTSTAMP:20260426T060659
CREATED:20260413T100615Z
LAST-MODIFIED:20260413T100615Z
UID:32081-1777048200-1777060800@storenberg.ch
SUMMARY:Reserviert Pensionäre
DESCRIPTION:
URL:https://storenberg.ch/event/reserviert-pensionaere-70/
CATEGORIES:Reserviert für Pensionäre
END:VEVENT
BEGIN:VEVENT
DTSTART;TZID=Europe/Zurich:20260423T090000
DTEND;TZID=Europe/Zurich:20260423T160000
DTSTAMP:20260426T060659
CREATED:20260413T095036Z
LAST-MODIFIED:20260413T095036Z
UID:32066-1776934800-1776960000@storenberg.ch
SUMMARY:Reitstunden Vivi - Pensionäre
DESCRIPTION:
URL:https://storenberg.ch/event/reitstunden-vivi-pensionaere-2/
CATEGORIES:Reserviert für Pensionäre
END:VEVENT
BEGIN:VEVENT
DTSTART;TZID=Europe/Zurich:20260422T170000
DTEND;TZID=Europe/Zurich:20260422T193000
DTSTAMP:20260426T060659
CREATED:20260413T100326Z
LAST-MODIFIED:20260413T100421Z
UID:32076-1776877200-1776886200@storenberg.ch
SUMMARY:Reserviert Pensionäre
DESCRIPTION:
URL:https://storenberg.ch/event/reserviert-pensionaere-68/
CATEGORIES:Reserviert für Pensionäre
END:VEVENT
BEGIN:VEVENT
DTSTART;TZID=Europe/Zurich:20260422T143000
DTEND;TZID=Europe/Zurich:20260422T163000
DTSTAMP:20260426T060659
CREATED:20260422T113101Z
LAST-MODIFIED:20260422T113101Z
UID:32096-1776868200-1776875400@storenberg.ch
SUMMARY:Reserviert C.S
DESCRIPTION:
URL:https://storenberg.ch/event/reserviert-c-s-66/
CATEGORIES:Reserviert
END:VEVENT
BEGIN:VEVENT
DTSTART;TZID=Europe/Zurich:20260420T170000
DTEND;TZID=Europe/Zurich:20260420T193000
DTSTAMP:20260426T060659
CREATED:20260413T100529Z
LAST-MODIFIED:20260413T100529Z
UID:32079-1776704400-1776713400@storenberg.ch
SUMMARY:Reserviert Pensionäre
DESCRIPTION:
URL:https://storenberg.ch/event/reserviert-pensionaere-69/
CATEGORIES:Reserviert für Pensionäre
END:VEVENT
BEGIN:VEVENT
DTSTART;VALUE=DATE:20260418
DTEND;VALUE=DATE:20260419
DTSTAMP:20260426T060659
CREATED:20260308T094537Z
LAST-MODIFIED:20260308T094537Z
UID:32005-1776470400-1776556799@storenberg.ch
SUMMARY:Reserviert - S.Z.
DESCRIPTION:Training Manuela Witt \nGanzer Tag
URL:https://storenberg.ch/event/reserviert-s-z-9/
CATEGORIES:Reserviert
END:VEVENT
BEGIN:VEVENT
DTSTART;TZID=Europe/Zurich:20260417T160000
DTEND;TZID=Europe/Zurich:20260417T200000
DTSTAMP:20260426T060659
CREATED:20260413T100220Z
LAST-MODIFIED:20260413T100220Z
UID:32074-1776441600-1776456000@storenberg.ch
SUMMARY:Reserviert Pensionäre
DESCRIPTION:
URL:https://storenberg.ch/event/reserviert-pensionaere-67/
CATEGORIES:Reserviert für Pensionäre
END:VEVENT
BEGIN:VEVENT
DTSTART;TZID=Europe/Zurich:20260417T100000
DTEND;TZID=Europe/Zurich:20260417T120000
DTSTAMP:20260426T060659
CREATED:20260401T113807Z
LAST-MODIFIED:20260401T113807Z
UID:32045-1776420000-1776427200@storenberg.ch
SUMMARY:Reserviert C.S.
DESCRIPTION:
URL:https://storenberg.ch/event/reserviert-c-s-64/
CATEGORIES:Reserviert
END:VEVENT
BEGIN:VEVENT
DTSTART;TZID=Europe/Zurich:20260416T143000
DTEND;TZID=Europe/Zurich:20260416T170000
DTSTAMP:20260426T060659
CREATED:20260401T113447Z
LAST-MODIFIED:20260401T113447Z
UID:32043-1776349800-1776358800@storenberg.ch
SUMMARY:Reserviert C.S.
DESCRIPTION:
URL:https://storenberg.ch/event/reserviert-c-s-63/
CATEGORIES:Reserviert
END:VEVENT
BEGIN:VEVENT
DTSTART;TZID=Europe/Zurich:20260416T100000
DTEND;TZID=Europe/Zurich:20260416T120000
DTSTAMP:20260426T060659
CREATED:20260413T094854Z
LAST-MODIFIED:20260413T094854Z
UID:32064-1776333600-1776340800@storenberg.ch
SUMMARY:Reitstunden Vivi - Pensionäre
DESCRIPTION:
URL:https://storenberg.ch/event/reitstunden-vivi-pensionaere/
CATEGORIES:Reserviert für Pensionäre
END:VEVENT
BEGIN:VEVENT
DTSTART;TZID=Europe/Zurich:20260415T163000
DTEND;TZID=Europe/Zurich:20260415T193000
DTSTAMP:20260426T060659
CREATED:20260413T100131Z
LAST-MODIFIED:20260413T100131Z
UID:32072-1776270600-1776281400@storenberg.ch
SUMMARY:Reserviert Pensionäre
DESCRIPTION:
URL:https://storenberg.ch/event/reserviert-pensionaere-66/
CATEGORIES:Reserviert für Pensionäre
END:VEVENT
BEGIN:VEVENT
DTSTART;TZID=Europe/Zurich:20260415T090000
DTEND;TZID=Europe/Zurich:20260415T100000
DTSTAMP:20260426T060659
CREATED:20260405T184417Z
LAST-MODIFIED:20260405T184417Z
UID:32059-1776243600-1776247200@storenberg.ch
SUMMARY:Reserviert M.L.
DESCRIPTION:
URL:https://storenberg.ch/event/reserviert-m-l-31/
CATEGORIES:Reserviert
END:VEVENT
BEGIN:VEVENT
DTSTART;TZID=Europe/Zurich:20260413T170000
DTEND;TZID=Europe/Zurich:20260413T193000
DTSTAMP:20260426T060659
CREATED:20260413T100047Z
LAST-MODIFIED:20260413T100047Z
UID:32070-1776099600-1776108600@storenberg.ch
SUMMARY:Reserviert Pensionäre
DESCRIPTION:
URL:https://storenberg.ch/event/reserviert-pensionaere-65/
CATEGORIES:Reserviert für Pensionäre
END:VEVENT
BEGIN:VEVENT
DTSTART;VALUE=DATE:20260411
DTEND;VALUE=DATE:20260413
DTSTAMP:20260426T060659
CREATED:20260327T194452Z
LAST-MODIFIED:20260330T195206Z
UID:32040-1775865600-1776038399@storenberg.ch
SUMMARY:Reserviert
DESCRIPTION:
URL:https://storenberg.ch/event/reserviert-thomas-tappeiner-2/
CATEGORIES:Reserviert
END:VEVENT
BEGIN:VEVENT
DTSTART;TZID=Europe/Zurich:20260410T160000
DTEND;TZID=Europe/Zurich:20260410T193000
DTSTAMP:20260426T060659
CREATED:20260405T184257Z
LAST-MODIFIED:20260405T184257Z
UID:32055-1775836800-1775849400@storenberg.ch
SUMMARY:Reserviert Pensionäre
DESCRIPTION:
URL:https://storenberg.ch/event/reserviert-pensionaere-64/
CATEGORIES:Reserviert für Pensionäre
END:VEVENT
BEGIN:VEVENT
DTSTART;TZID=Europe/Zurich:20260408T170000
DTEND;TZID=Europe/Zurich:20260408T193000
DTSTAMP:20260426T060659
CREATED:20260405T184212Z
LAST-MODIFIED:20260405T184212Z
UID:32053-1775667600-1775676600@storenberg.ch
SUMMARY:Reserviert Pensionäre
DESCRIPTION:
URL:https://storenberg.ch/event/reserviert-pensionaere-63/
CATEGORIES:Reserviert für Pensionäre
END:VEVENT
BEGIN:VEVENT
DTSTART;TZID=Europe/Zurich:20260408T143000
DTEND;TZID=Europe/Zurich:20260408T163000
DTSTAMP:20260426T060659
CREATED:20260407T201110Z
LAST-MODIFIED:20260407T201110Z
UID:32061-1775658600-1775665800@storenberg.ch
SUMMARY:Kinderreitstunde -Aylin / C.S.
DESCRIPTION:
URL:https://storenberg.ch/event/kinderreitstunde-aylin-c-s/
CATEGORIES:Reserviert,Reserviert für Pensionäre
END:VEVENT
BEGIN:VEVENT
DTSTART;TZID=Europe/Zurich:20260408T090000
DTEND;TZID=Europe/Zurich:20260408T100000
DTSTAMP:20260426T060659
CREATED:20260405T184337Z
LAST-MODIFIED:20260405T184337Z
UID:32057-1775638800-1775642400@storenberg.ch
SUMMARY:Reserviert M.L.
DESCRIPTION:
URL:https://storenberg.ch/event/reserviert-m-l-30/
CATEGORIES:Reserviert
END:VEVENT
BEGIN:VEVENT
DTSTART;TZID=Europe/Zurich:20260406T160000
DTEND;TZID=Europe/Zurich:20260406T193000
DTSTAMP:20260426T060659
CREATED:20260405T184132Z
LAST-MODIFIED:20260405T184132Z
UID:32051-1775491200-1775503800@storenberg.ch
SUMMARY:Reserviert Pensionäre
DESCRIPTION:
URL:https://storenberg.ch/event/reserviert-pensionaere-62/
CATEGORIES:Reserviert für Pensionäre
END:VEVENT
BEGIN:VEVENT
DTSTART;TZID=Europe/Zurich:20260406T120000
DTEND;TZID=Europe/Zurich:20260406T133000
DTSTAMP:20260426T060659
CREATED:20260405T184050Z
LAST-MODIFIED:20260405T184050Z
UID:32049-1775476800-1775482200@storenberg.ch
SUMMARY:Reserviert C.S.
DESCRIPTION:
URL:https://storenberg.ch/event/reserviert-c-s-65/
CATEGORIES:Reserviert
END:VEVENT
BEGIN:VEVENT
DTSTART;VALUE=DATE:20260404
DTEND;VALUE=DATE:20260406
DTSTAMP:20260426T060659
CREATED:20250930T152549Z
LAST-MODIFIED:20250930T152549Z
UID:31713-1775260800-1775433599@storenberg.ch
SUMMARY:Reserviert Marco Scheidecker - Kurs
DESCRIPTION:
URL:https://storenberg.ch/event/reserviert-marco-scheidecker-kurs/
CATEGORIES:Reserviert
END:VEVENT
BEGIN:VEVENT
DTSTART;TZID=Europe/Zurich:20260401T143000
DTEND;TZID=Europe/Zurich:20260401T170000
DTSTAMP:20260426T060659
CREATED:20260323T090424Z
LAST-MODIFIED:20260323T090424Z
UID:32032-1775053800-1775062800@storenberg.ch
SUMMARY:Reserviert C.S.
DESCRIPTION:
URL:https://storenberg.ch/event/reserviert-c-s-62/
CATEGORIES:Reserviert
END:VEVENT
BEGIN:VEVENT
DTSTART;TZID=Europe/Zurich:20260330T170000
DTEND;TZID=Europe/Zurich:20260330T193000
DTSTAMP:20260426T060659
CREATED:20260323T090510Z
LAST-MODIFIED:20260323T090510Z
UID:32034-1774890000-1774899000@storenberg.ch
SUMMARY:Reserviert Pensionäre
DESCRIPTION:
URL:https://storenberg.ch/event/reserviert-pensionaere-61/
CATEGORIES:Reserviert für Pensionäre
END:VEVENT
BEGIN:VEVENT
DTSTART;VALUE=DATE:20260328
DTEND;VALUE=DATE:20260329
DTSTAMP:20260426T060659
CREATED:20251107T103709Z
LAST-MODIFIED:20251107T103709Z
UID:31748-1774656000-1774742399@storenberg.ch
SUMMARY:Reserviert - S.Z.
DESCRIPTION:Training mit Manuela Witt \nAnfragen bei Sandra Zahner
URL:https://storenberg.ch/event/reserviert-s-z-4/
CATEGORIES:Reserviert
END:VEVENT
BEGIN:VEVENT
DTSTART;TZID=Europe/Zurich:20260327T193000
DTEND;TZID=Europe/Zurich:20260327T193000
DTSTAMP:20260426T060659
CREATED:20260318T190845Z
LAST-MODIFIED:20260318T190845Z
UID:32022-1774639800-1774639800@storenberg.ch
SUMMARY:Reserviert- Ponygruppe Carla
DESCRIPTION:
URL:https://storenberg.ch/event/reserviert-ponygruppe-carla/
CATEGORIES:Reserviert
END:VEVENT
BEGIN:VEVENT
DTSTART;TZID=Europe/Zurich:20260327T163000
DTEND;TZID=Europe/Zurich:20260327T220000
DTSTAMP:20260426T060659
CREATED:20260323T090314Z
LAST-MODIFIED:20260323T090314Z
UID:32030-1774629000-1774648800@storenberg.ch
SUMMARY:Reserviert Pensionäre
DESCRIPTION:
URL:https://storenberg.ch/event/reserviert-pensionaere-60/
CATEGORIES:Reserviert für Pensionäre
END:VEVENT
BEGIN:VEVENT
DTSTART;TZID=Europe/Zurich:20260325T170000
DTEND;TZID=Europe/Zurich:20260325T193000
DTSTAMP:20260426T060659
CREATED:20260323T090215Z
LAST-MODIFIED:20260323T090215Z
UID:32028-1774458000-1774467000@storenberg.ch
SUMMARY:Reserviert Pensionäre
DESCRIPTION:
URL:https://storenberg.ch/event/reserviert-pensionaere-59/
CATEGORIES:Reserviert für Pensionäre
END:VEVENT
BEGIN:VEVENT
DTSTART;TZID=Europe/Zurich:20260325T143000
DTEND;TZID=Europe/Zurich:20260325T170000
DTSTAMP:20260426T060659
CREATED:20260225T083810Z
LAST-MODIFIED:20260225T083810Z
UID:32001-1774449000-1774458000@storenberg.ch
SUMMARY:Reserviert- C.S.
DESCRIPTION:
URL:https://storenberg.ch/event/reserviert-c-s-61/
CATEGORIES:Reserviert
END:VEVENT
BEGIN:VEVENT
DTSTART;TZID=Europe/Zurich:20260324T183000
DTEND;TZID=Europe/Zurich:20260324T193000
DTSTAMP:20260426T060659
CREATED:20260319T065952Z
LAST-MODIFIED:20260319T065952Z
UID:32024-1774377000-1774380600@storenberg.ch
SUMMARY:Hallenpflege Justin
DESCRIPTION: 
URL:https://storenberg.ch/event/hallenpflege-justin-2/
CATEGORIES:Hallenpflege,Reserviert
END:VEVENT
END:VCALENDAR