BEGIN:VCALENDAR
VERSION:2.0
PRODID:-//Pferdepension Storenberg - ECPv6.15.20//NONSGML v1.0//EN
CALSCALE:GREGORIAN
METHOD:PUBLISH
X-ORIGINAL-URL:https://storenberg.ch
X-WR-CALDESC:Veranstaltungen für Pferdepension Storenberg
REFRESH-INTERVAL;VALUE=DURATION:PT1H
X-Robots-Tag:noindex
X-PUBLISHED-TTL:PT1H
BEGIN:VTIMEZONE
TZID:Europe/Zurich
BEGIN:DAYLIGHT
TZOFFSETFROM:+0100
TZOFFSETTO:+0200
TZNAME:CEST
DTSTART:20230326T010000
END:DAYLIGHT
BEGIN:STANDARD
TZOFFSETFROM:+0200
TZOFFSETTO:+0100
TZNAME:CET
DTSTART:20231029T010000
END:STANDARD
BEGIN:DAYLIGHT
TZOFFSETFROM:+0100
TZOFFSETTO:+0200
TZNAME:CEST
DTSTART:20240331T010000
END:DAYLIGHT
BEGIN:STANDARD
TZOFFSETFROM:+0200
TZOFFSETTO:+0100
TZNAME:CET
DTSTART:20241027T010000
END:STANDARD
BEGIN:DAYLIGHT
TZOFFSETFROM:+0100
TZOFFSETTO:+0200
TZNAME:CEST
DTSTART:20250330T010000
END:DAYLIGHT
BEGIN:STANDARD
TZOFFSETFROM:+0200
TZOFFSETTO:+0100
TZNAME:CET
DTSTART:20251026T010000
END:STANDARD
END:VTIMEZONE
BEGIN:VEVENT
DTSTART;TZID=Europe/Zurich:20240201T080000
DTEND;TZID=Europe/Zurich:20240201T170000
DTSTAMP:20260419T152412
CREATED:20240125T132901Z
LAST-MODIFIED:20240125T132901Z
UID:29926-1706774400-1706806800@storenberg.ch
SUMMARY:Achtung Bauarbeiten Pferdestall – Reithalle nutzbar
DESCRIPTION:
URL:https://storenberg.ch/event/achtung-bauarbeiten-pferdestall-reithalle-nutzbar-14/
END:VEVENT
BEGIN:VEVENT
DTSTART;TZID=Europe/Zurich:20240202T080000
DTEND;TZID=Europe/Zurich:20240202T170000
DTSTAMP:20260419T152412
CREATED:20240125T132914Z
LAST-MODIFIED:20240125T132914Z
UID:29928-1706860800-1706893200@storenberg.ch
SUMMARY:Achtung Bauarbeiten Pferdestall – Reithalle nutzbar
DESCRIPTION:
URL:https://storenberg.ch/event/achtung-bauarbeiten-pferdestall-reithalle-nutzbar-15/
END:VEVENT
BEGIN:VEVENT
DTSTART;TZID=Europe/Zurich:20240202T093000
DTEND;TZID=Europe/Zurich:20240202T103000
DTSTAMP:20260419T152412
CREATED:20231227T201241Z
LAST-MODIFIED:20231227T201241Z
UID:29741-1706866200-1706869800@storenberg.ch
SUMMARY:09.30-10.30 Reservation J.B.
DESCRIPTION:
URL:https://storenberg.ch/event/09-30-10-30-reservation-j-b-9/
LOCATION:Pferdepension & Reithalle Storenberg\, Rosenbergstrasse 8\, Müllheim\, Thurgau\, 8555\, Schweiz
CATEGORIES:Reserviert
END:VEVENT
BEGIN:VEVENT
DTSTART;TZID=Europe/Zurich:20240203T140000
DTEND;TZID=Europe/Zurich:20240203T160000
DTSTAMP:20260419T152412
CREATED:20240130T073109Z
LAST-MODIFIED:20240130T073122Z
UID:29933-1706968800-1706976000@storenberg.ch
SUMMARY:14.00-16.00 Reservation C.H.
DESCRIPTION:
URL:https://storenberg.ch/event/14-00-16-00-reservation-c-h-2/
CATEGORIES:Reserviert
END:VEVENT
BEGIN:VEVENT
DTSTART;TZID=Europe/Zurich:20240204T083000
DTEND;TZID=Europe/Zurich:20240204T120000
DTSTAMP:20260419T152412
CREATED:20231219T184146Z
LAST-MODIFIED:20240131T220543Z
UID:29483-1707035400-1707048000@storenberg.ch
SUMMARY:Freispringen RV Müllheim
DESCRIPTION:
URL:https://storenberg.ch/event/freispringen-rv-muellheim/
LOCATION:Pferdepension & Reithalle Storenberg\, Rosenbergstrasse 8\, Müllheim\, Thurgau\, 8555\, Schweiz
CATEGORIES:Events,Reserviert
END:VEVENT
BEGIN:VEVENT
DTSTART;TZID=Europe/Zurich:20240204T120000
DTEND;TZID=Europe/Zurich:20240204T133000
DTSTAMP:20260419T152412
CREATED:20231220T193027Z
LAST-MODIFIED:20240131T220713Z
UID:29622-1707048000-1707053400@storenberg.ch
SUMMARY:12.00-13.30 Hallenpflege
DESCRIPTION:
URL:https://storenberg.ch/event/hallenpflege-8/
LOCATION:Pferdepension & Reithalle Storenberg\, Rosenbergstrasse 8\, Müllheim\, Thurgau\, 8555\, Schweiz
CATEGORIES:Hallenpflege
END:VEVENT
BEGIN:VEVENT
DTSTART;TZID=Europe/Zurich:20240204T133000
DTEND;TZID=Europe/Zurich:20240204T143000
DTSTAMP:20260419T152412
CREATED:20240131T221313Z
LAST-MODIFIED:20240131T221313Z
UID:29955-1707053400-1707057000@storenberg.ch
SUMMARY:13.30-14.30 Reservation M.B.
DESCRIPTION:
URL:https://storenberg.ch/event/13-30-14-30-reservation-m-b/
CATEGORIES:Reserviert
END:VEVENT
BEGIN:VEVENT
DTSTART;TZID=Europe/Zurich:20240205T150000
DTEND;TZID=Europe/Zurich:20240205T160000
DTSTAMP:20260419T152412
CREATED:20231227T200330Z
LAST-MODIFIED:20240123T093039Z
UID:29715-1707145200-1707148800@storenberg.ch
SUMMARY:15.00-16.00 Reservation M.C.
DESCRIPTION:
URL:https://storenberg.ch/event/15-30-16-30-reservation-m-c-2/
LOCATION:Pferdepension & Reithalle Storenberg\, Rosenbergstrasse 8\, Müllheim\, Thurgau\, 8555\, Schweiz
CATEGORIES:Reserviert
END:VEVENT
BEGIN:VEVENT
DTSTART;TZID=Europe/Zurich:20240205T190000
DTEND;TZID=Europe/Zurich:20240205T203000
DTSTAMP:20260419T152412
CREATED:20231220T102925Z
LAST-MODIFIED:20240121T185124Z
UID:29558-1707159600-1707165000@storenberg.ch
SUMMARY:19.00-20.30 RV Müllheim
DESCRIPTION:
URL:https://storenberg.ch/event/19-00-21-00-rv-muellheim-4/
LOCATION:Pferdepension & Reithalle Storenberg\, Rosenbergstrasse 8\, Müllheim\, Thurgau\, 8555\, Schweiz
CATEGORIES:Reserviert
END:VEVENT
BEGIN:VEVENT
DTSTART;TZID=Europe/Zurich:20240206T093000
DTEND;TZID=Europe/Zurich:20240206T103000
DTSTAMP:20260419T152412
CREATED:20231227T201049Z
LAST-MODIFIED:20231227T201049Z
UID:29733-1707211800-1707215400@storenberg.ch
SUMMARY:09.30-10.30 Reservation J.B.
DESCRIPTION:
URL:https://storenberg.ch/event/09-30-10-30-reservation-j-b-5/
LOCATION:Pferdepension & Reithalle Storenberg\, Rosenbergstrasse 8\, Müllheim\, Thurgau\, 8555\, Schweiz
CATEGORIES:Reserviert
END:VEVENT
BEGIN:VEVENT
DTSTART;TZID=Europe/Zurich:20240206T163000
DTEND;TZID=Europe/Zurich:20240206T173000
DTSTAMP:20260419T152412
CREATED:20240117T192738Z
LAST-MODIFIED:20240117T192738Z
UID:29874-1707237000-1707240600@storenberg.ch
SUMMARY:16.30-17.30 Reservation J.S.
DESCRIPTION:
URL:https://storenberg.ch/event/16-30-17-30-reservation-j-s/
LOCATION:Pferdepension & Reithalle Storenberg\, Rosenbergstrasse 8\, Müllheim\, Thurgau\, 8555\, Schweiz
CATEGORIES:Reserviert
END:VEVENT
BEGIN:VEVENT
DTSTART;TZID=Europe/Zurich:20240206T183000
DTEND;TZID=Europe/Zurich:20240206T213000
DTSTAMP:20260419T152412
CREATED:20231227T195533Z
LAST-MODIFIED:20231227T195533Z
UID:29707-1707244200-1707255000@storenberg.ch
SUMMARY:18.30-21.30 Reservation Pensionäre
DESCRIPTION:
URL:https://storenberg.ch/event/18-30-21-30-reservation-pensionaere-5/
CATEGORIES:Reserviert für Pensionäre
END:VEVENT
BEGIN:VEVENT
DTSTART;TZID=Europe/Zurich:20240207T080000
DTEND;TZID=Europe/Zurich:20240207T170000
DTSTAMP:20260419T152412
CREATED:20240207T083501Z
LAST-MODIFIED:20240207T083501Z
UID:29966-1707292800-1707325200@storenberg.ch
SUMMARY:Achtung Bauarbeiten Pferdestall – Reithalle nutzbar
DESCRIPTION:
URL:https://storenberg.ch/event/achtung-bauarbeiten-pferdestall-reithalle-nutzbar-16/
END:VEVENT
BEGIN:VEVENT
DTSTART;TZID=Europe/Zurich:20240207T103000
DTEND;TZID=Europe/Zurich:20240207T113000
DTSTAMP:20260419T152412
CREATED:20231227T201625Z
LAST-MODIFIED:20231227T201625Z
UID:29751-1707301800-1707305400@storenberg.ch
SUMMARY:Hallenpflege
DESCRIPTION:
URL:https://storenberg.ch/event/hallenpflege-17/
LOCATION:Pferdepension & Reithalle Storenberg\, Rosenbergstrasse 8\, Müllheim\, Thurgau\, 8555\, Schweiz
CATEGORIES:Hallenpflege
END:VEVENT
BEGIN:VEVENT
DTSTART;TZID=Europe/Zurich:20240207T143000
DTEND;TZID=Europe/Zurich:20240207T153000
DTSTAMP:20260419T152412
CREATED:20240121T185233Z
LAST-MODIFIED:20240121T185233Z
UID:29891-1707316200-1707319800@storenberg.ch
SUMMARY:14.30-15.30 Reservation M.L.
DESCRIPTION:
URL:https://storenberg.ch/event/14-30-15-30-reservation-m-l/
CATEGORIES:Reserviert
END:VEVENT
BEGIN:VEVENT
DTSTART;TZID=Europe/Zurich:20240208T080000
DTEND;TZID=Europe/Zurich:20240208T170000
DTSTAMP:20260419T152412
CREATED:20240207T083514Z
LAST-MODIFIED:20240207T083514Z
UID:29968-1707379200-1707411600@storenberg.ch
SUMMARY:Achtung Bauarbeiten Pferdestall – Reithalle nutzbar
DESCRIPTION:
URL:https://storenberg.ch/event/achtung-bauarbeiten-pferdestall-reithalle-nutzbar-17/
END:VEVENT
BEGIN:VEVENT
DTSTART;TZID=Europe/Zurich:20240209T080000
DTEND;TZID=Europe/Zurich:20240209T170000
DTSTAMP:20260419T152412
CREATED:20240207T083532Z
LAST-MODIFIED:20240207T083532Z
UID:29970-1707465600-1707498000@storenberg.ch
SUMMARY:Achtung Bauarbeiten Pferdestall – Reithalle nutzbar
DESCRIPTION:
URL:https://storenberg.ch/event/achtung-bauarbeiten-pferdestall-reithalle-nutzbar-18/
END:VEVENT
BEGIN:VEVENT
DTSTART;TZID=Europe/Zurich:20240209T093000
DTEND;TZID=Europe/Zurich:20240209T103000
DTSTAMP:20260419T152412
CREATED:20231227T201304Z
LAST-MODIFIED:20231227T201304Z
UID:29743-1707471000-1707474600@storenberg.ch
SUMMARY:09.30-10.30 Reservation J.B.
DESCRIPTION:
URL:https://storenberg.ch/event/09-30-10-30-reservation-j-b-10/
LOCATION:Pferdepension & Reithalle Storenberg\, Rosenbergstrasse 8\, Müllheim\, Thurgau\, 8555\, Schweiz
CATEGORIES:Reserviert
END:VEVENT
BEGIN:VEVENT
DTSTART;TZID=Europe/Zurich:20240210T080000
DTEND;TZID=Europe/Zurich:20240210T090000
DTSTAMP:20260419T152412
CREATED:20231227T202112Z
LAST-MODIFIED:20231227T202112Z
UID:29767-1707552000-1707555600@storenberg.ch
SUMMARY:Hallenpflege
DESCRIPTION:
URL:https://storenberg.ch/event/hallenpflege-25/
LOCATION:Pferdepension & Reithalle Storenberg\, Rosenbergstrasse 8\, Müllheim\, Thurgau\, 8555\, Schweiz
CATEGORIES:Hallenpflege
END:VEVENT
BEGIN:VEVENT
DTSTART;TZID=Europe/Zurich:20240210T140000
DTEND;TZID=Europe/Zurich:20240210T160000
DTSTAMP:20260419T152412
CREATED:20240205T085459Z
LAST-MODIFIED:20240205T085459Z
UID:29962-1707573600-1707580800@storenberg.ch
SUMMARY:14.00-16.00 Reservation C.H.
DESCRIPTION:
URL:https://storenberg.ch/event/14-00-16-00-reservation-c-h/
CATEGORIES:Reserviert
END:VEVENT
BEGIN:VEVENT
DTSTART;TZID=Europe/Zurich:20240211T130000
DTEND;TZID=Europe/Zurich:20240211T140000
DTSTAMP:20260419T152412
CREATED:20240121T185517Z
LAST-MODIFIED:20240121T185517Z
UID:29899-1707656400-1707660000@storenberg.ch
SUMMARY:13.00-14.00 Reservation M.B.
DESCRIPTION:
URL:https://storenberg.ch/event/13-00-14-00-reservation-m-b/
CATEGORIES:Reserviert
END:VEVENT
BEGIN:VEVENT
DTSTART;TZID=Europe/Zurich:20240211T140000
DTEND;TZID=Europe/Zurich:20240211T150000
DTSTAMP:20260419T152412
CREATED:20240125T132722Z
LAST-MODIFIED:20240125T132743Z
UID:29917-1707660000-1707663600@storenberg.ch
SUMMARY:14.00-15.00 Reservation Mo.Br.
DESCRIPTION:
URL:https://storenberg.ch/event/14-00-15-00-reservation-m-b/
CATEGORIES:Reserviert
END:VEVENT
BEGIN:VEVENT
DTSTART;TZID=Europe/Zurich:20240212T080000
DTEND;TZID=Europe/Zurich:20240212T170000
DTSTAMP:20260419T152412
CREATED:20240207T083545Z
LAST-MODIFIED:20240207T083545Z
UID:29972-1707724800-1707757200@storenberg.ch
SUMMARY:Achtung Bauarbeiten Pferdestall – Reithalle nutzbar
DESCRIPTION:
URL:https://storenberg.ch/event/achtung-bauarbeiten-pferdestall-reithalle-nutzbar-19/
END:VEVENT
BEGIN:VEVENT
DTSTART;TZID=Europe/Zurich:20240212T103000
DTEND;TZID=Europe/Zurich:20240212T113000
DTSTAMP:20260419T152412
CREATED:20231227T201701Z
LAST-MODIFIED:20231227T201701Z
UID:29753-1707733800-1707737400@storenberg.ch
SUMMARY:Hallenpflege
DESCRIPTION:
URL:https://storenberg.ch/event/hallenpflege-18/
LOCATION:Pferdepension & Reithalle Storenberg\, Rosenbergstrasse 8\, Müllheim\, Thurgau\, 8555\, Schweiz
CATEGORIES:Hallenpflege
END:VEVENT
BEGIN:VEVENT
DTSTART;TZID=Europe/Zurich:20240212T150000
DTEND;TZID=Europe/Zurich:20240212T160000
DTSTAMP:20260419T152412
CREATED:20231227T200400Z
LAST-MODIFIED:20240123T093010Z
UID:29717-1707750000-1707753600@storenberg.ch
SUMMARY:15.00-16.00 Reservation M.C.
DESCRIPTION:
URL:https://storenberg.ch/event/15-30-16-30-reservation-m-c-3/
LOCATION:Pferdepension & Reithalle Storenberg\, Rosenbergstrasse 8\, Müllheim\, Thurgau\, 8555\, Schweiz
CATEGORIES:Reserviert
END:VEVENT
BEGIN:VEVENT
DTSTART;TZID=Europe/Zurich:20240212T163000
DTEND;TZID=Europe/Zurich:20240212T173000
DTSTAMP:20260419T152412
CREATED:20231227T200809Z
LAST-MODIFIED:20231227T200809Z
UID:29727-1707755400-1707759000@storenberg.ch
SUMMARY:16.30-17.30 Reservation J.Z.
DESCRIPTION:
URL:https://storenberg.ch/event/16-30-17-30-reservation-j-z-6/
CATEGORIES:Reserviert
END:VEVENT
BEGIN:VEVENT
DTSTART;TZID=Europe/Zurich:20240212T190000
DTEND;TZID=Europe/Zurich:20240212T203000
DTSTAMP:20260419T152412
CREATED:20231220T102957Z
LAST-MODIFIED:20240121T185042Z
UID:29560-1707764400-1707769800@storenberg.ch
SUMMARY:19.00-20.30 RV Müllheim
DESCRIPTION:
URL:https://storenberg.ch/event/19-00-21-00-rv-muellheim-5/
LOCATION:Pferdepension & Reithalle Storenberg\, Rosenbergstrasse 8\, Müllheim\, Thurgau\, 8555\, Schweiz
CATEGORIES:Reserviert
END:VEVENT
BEGIN:VEVENT
DTSTART;TZID=Europe/Zurich:20240213T080000
DTEND;TZID=Europe/Zurich:20240213T170000
DTSTAMP:20260419T152412
CREATED:20240207T083558Z
LAST-MODIFIED:20240207T083558Z
UID:29974-1707811200-1707843600@storenberg.ch
SUMMARY:Achtung Bauarbeiten Pferdestall – Reithalle nutzbar
DESCRIPTION:
URL:https://storenberg.ch/event/achtung-bauarbeiten-pferdestall-reithalle-nutzbar-20/
END:VEVENT
BEGIN:VEVENT
DTSTART;TZID=Europe/Zurich:20240213T093000
DTEND;TZID=Europe/Zurich:20240213T103000
DTSTAMP:20260419T152412
CREATED:20231227T201113Z
LAST-MODIFIED:20231227T201113Z
UID:29735-1707816600-1707820200@storenberg.ch
SUMMARY:09.30-10.30 Reservation J.B.
DESCRIPTION:
URL:https://storenberg.ch/event/09-30-10-30-reservation-j-b-6/
LOCATION:Pferdepension & Reithalle Storenberg\, Rosenbergstrasse 8\, Müllheim\, Thurgau\, 8555\, Schweiz
CATEGORIES:Reserviert
END:VEVENT
BEGIN:VEVENT
DTSTART;TZID=Europe/Zurich:20240213T173000
DTEND;TZID=Europe/Zurich:20240213T183000
DTSTAMP:20260419T152412
CREATED:20240117T192843Z
LAST-MODIFIED:20240117T192843Z
UID:29876-1707845400-1707849000@storenberg.ch
SUMMARY:17.30-18.30 Reservation J.S.
DESCRIPTION:
URL:https://storenberg.ch/event/17-30-18-30-reservation-j-s/
LOCATION:Pferdepension & Reithalle Storenberg\, Rosenbergstrasse 8\, Müllheim\, Thurgau\, 8555\, Schweiz
CATEGORIES:Reserviert
END:VEVENT
END:VCALENDAR