BEGIN:VCALENDAR
VERSION:2.0
PRODID:-//Pferdepension Storenberg - ECPv6.15.20//NONSGML v1.0//EN
CALSCALE:GREGORIAN
METHOD:PUBLISH
X-ORIGINAL-URL:https://storenberg.ch
X-WR-CALDESC:Veranstaltungen für Pferdepension Storenberg
REFRESH-INTERVAL;VALUE=DURATION:PT1H
X-Robots-Tag:noindex
X-PUBLISHED-TTL:PT1H
BEGIN:VTIMEZONE
TZID:Europe/Zurich
BEGIN:DAYLIGHT
TZOFFSETFROM:+0100
TZOFFSETTO:+0200
TZNAME:CEST
DTSTART:20230326T010000
END:DAYLIGHT
BEGIN:STANDARD
TZOFFSETFROM:+0200
TZOFFSETTO:+0100
TZNAME:CET
DTSTART:20231029T010000
END:STANDARD
BEGIN:DAYLIGHT
TZOFFSETFROM:+0100
TZOFFSETTO:+0200
TZNAME:CEST
DTSTART:20240331T010000
END:DAYLIGHT
BEGIN:STANDARD
TZOFFSETFROM:+0200
TZOFFSETTO:+0100
TZNAME:CET
DTSTART:20241027T010000
END:STANDARD
BEGIN:DAYLIGHT
TZOFFSETFROM:+0100
TZOFFSETTO:+0200
TZNAME:CEST
DTSTART:20250330T010000
END:DAYLIGHT
BEGIN:STANDARD
TZOFFSETFROM:+0200
TZOFFSETTO:+0100
TZNAME:CET
DTSTART:20251026T010000
END:STANDARD
END:VTIMEZONE
BEGIN:VEVENT
DTSTART;TZID=Europe/Zurich:20240503T093000
DTEND;TZID=Europe/Zurich:20240503T103000
DTSTAMP:20260419T154955
CREATED:20240425T082439Z
LAST-MODIFIED:20240425T082439Z
UID:30342-1714728600-1714732200@storenberg.ch
SUMMARY:09.30-10.30 Reservation J.B.
DESCRIPTION:
URL:https://storenberg.ch/event/09-30-10-30-reservation-j-b-33/
CATEGORIES:Reserviert
END:VEVENT
BEGIN:VEVENT
DTSTART;TZID=Europe/Zurich:20240503T103000
DTEND;TZID=Europe/Zurich:20240503T113000
DTSTAMP:20260419T154955
CREATED:20240425T083435Z
LAST-MODIFIED:20240425T083435Z
UID:30356-1714732200-1714735800@storenberg.ch
SUMMARY:10.30-11.30 Hallenpflege
DESCRIPTION:
URL:https://storenberg.ch/event/10-30-11-30-hallenpflege-11/
CATEGORIES:Hallenpflege
END:VEVENT
BEGIN:VEVENT
DTSTART;TZID=Europe/Zurich:20240505T100000
DTEND;TZID=Europe/Zurich:20240505T120000
DTSTAMP:20260419T154955
CREATED:20240428T072637Z
LAST-MODIFIED:20240428T072637Z
UID:30390-1714903200-1714910400@storenberg.ch
SUMMARY:10.00-12.00 Reservation Ma.Bu.
DESCRIPTION:
URL:https://storenberg.ch/event/10-00-12-00-reservation-ma-bu/
CATEGORIES:Reserviert
END:VEVENT
BEGIN:VEVENT
DTSTART;TZID=Europe/Zurich:20240506T093000
DTEND;TZID=Europe/Zurich:20240506T103000
DTSTAMP:20260419T154955
CREATED:20240425T082257Z
LAST-MODIFIED:20240425T082257Z
UID:30334-1714987800-1714991400@storenberg.ch
SUMMARY:09.30-10.30 Reservation J.B.
DESCRIPTION:
URL:https://storenberg.ch/event/09-30-10-30-reservation-j-b-23/
CATEGORIES:Reserviert
END:VEVENT
BEGIN:VEVENT
DTSTART;TZID=Europe/Zurich:20240507T103000
DTEND;TZID=Europe/Zurich:20240507T113000
DTSTAMP:20260419T154955
CREATED:20240425T083404Z
LAST-MODIFIED:20240425T083404Z
UID:30354-1715077800-1715081400@storenberg.ch
SUMMARY:10.30-11.30 Hallenpflege
DESCRIPTION:
URL:https://storenberg.ch/event/10-30-11-30-hallenpflege-10/
CATEGORIES:Hallenpflege
END:VEVENT
BEGIN:VEVENT
DTSTART;TZID=Europe/Zurich:20240507T183000
DTEND;TZID=Europe/Zurich:20240507T213000
DTSTAMP:20260419T154955
CREATED:20240506T163027Z
LAST-MODIFIED:20240506T163027Z
UID:30415-1715106600-1715117400@storenberg.ch
SUMMARY:18.30-21.30 Reservation Pensionäre
DESCRIPTION:
URL:https://storenberg.ch/event/18-30-21-30-reservation-pensionaere-19/
CATEGORIES:Reserviert für Pensionäre
END:VEVENT
BEGIN:VEVENT
DTSTART;TZID=Europe/Zurich:20240509T120000
DTEND;TZID=Europe/Zurich:20240509T140000
DTSTAMP:20260419T154955
CREATED:20240428T072058Z
LAST-MODIFIED:20240428T072058Z
UID:30384-1715256000-1715263200@storenberg.ch
SUMMARY:12.00-14.00 Reservation C.H.
DESCRIPTION:
URL:https://storenberg.ch/event/12-00-14-00-reservation-c-h/
CATEGORIES:Reserviert
END:VEVENT
BEGIN:VEVENT
DTSTART;TZID=Europe/Zurich:20240510T093000
DTEND;TZID=Europe/Zurich:20240510T103000
DTSTAMP:20260419T154955
CREATED:20240425T082502Z
LAST-MODIFIED:20240425T082502Z
UID:30344-1715333400-1715337000@storenberg.ch
SUMMARY:09.30-10.30 Reservation J.B.
DESCRIPTION:
URL:https://storenberg.ch/event/09-30-10-30-reservation-j-b-34/
CATEGORIES:Reserviert
END:VEVENT
BEGIN:VEVENT
DTSTART;TZID=Europe/Zurich:20240510T103000
DTEND;TZID=Europe/Zurich:20240510T113000
DTSTAMP:20260419T154955
CREATED:20240425T083509Z
LAST-MODIFIED:20240425T083509Z
UID:30358-1715337000-1715340600@storenberg.ch
SUMMARY:10.30-11.30 Hallenpflege
DESCRIPTION:
URL:https://storenberg.ch/event/10-30-11-30-hallenpflege-12/
CATEGORIES:Hallenpflege
END:VEVENT
BEGIN:VEVENT
DTSTART;TZID=Europe/Zurich:20240511T090000
DTEND;TZID=Europe/Zurich:20240511T170000
DTSTAMP:20260419T154955
CREATED:20240409T120839Z
LAST-MODIFIED:20240409T120839Z
UID:30301-1715418000-1715446800@storenberg.ch
SUMMARY:09.00-17.00 Reservation K.T.
DESCRIPTION:
URL:https://storenberg.ch/event/09-00-17-00-reservation-k-t/
CATEGORIES:Reserviert
END:VEVENT
BEGIN:VEVENT
DTSTART;TZID=Europe/Zurich:20240511T170000
DTEND;TZID=Europe/Zurich:20240511T183000
DTSTAMP:20260419T154955
CREATED:20240425T083828Z
LAST-MODIFIED:20240425T083828Z
UID:30370-1715446800-1715452200@storenberg.ch
SUMMARY:17.00-18.30 Hallenpflege
DESCRIPTION:
URL:https://storenberg.ch/event/17-00-18-30-hallenpflege/
CATEGORIES:Hallenpflege
END:VEVENT
BEGIN:VEVENT
DTSTART;TZID=Europe/Zurich:20240513T093000
DTEND;TZID=Europe/Zurich:20240513T103000
DTSTAMP:20260419T154955
CREATED:20240425T082322Z
LAST-MODIFIED:20240425T082322Z
UID:30336-1715592600-1715596200@storenberg.ch
SUMMARY:09.30-10.30 Reservation J.B.
DESCRIPTION:
URL:https://storenberg.ch/event/09-30-10-30-reservation-j-b-30/
CATEGORIES:Reserviert
END:VEVENT
BEGIN:VEVENT
DTSTART;TZID=Europe/Zurich:20240514T103000
DTEND;TZID=Europe/Zurich:20240514T113000
DTSTAMP:20260419T154955
CREATED:20240425T083534Z
LAST-MODIFIED:20240425T083534Z
UID:30360-1715682600-1715686200@storenberg.ch
SUMMARY:10.30-11.30 Hallenpflege
DESCRIPTION:
URL:https://storenberg.ch/event/10-30-11-30-hallenpflege-13/
CATEGORIES:Hallenpflege
END:VEVENT
BEGIN:VEVENT
DTSTART;TZID=Europe/Zurich:20240514T180000
DTEND;TZID=Europe/Zurich:20240514T200000
DTSTAMP:20260419T154955
CREATED:20240428T072217Z
LAST-MODIFIED:20240428T072217Z
UID:30386-1715709600-1715716800@storenberg.ch
SUMMARY:18.00-20.00 Reservation C.H.
DESCRIPTION:
URL:https://storenberg.ch/event/18-00-20-00-reservation-c-h/
CATEGORIES:Reserviert
END:VEVENT
BEGIN:VEVENT
DTSTART;TZID=Europe/Zurich:20240516T183000
DTEND;TZID=Europe/Zurich:20240516T213000
DTSTAMP:20260419T154955
CREATED:20240506T163102Z
LAST-MODIFIED:20240506T163223Z
UID:30417-1715884200-1715895000@storenberg.ch
SUMMARY:18.30-21.30 Reservation Pensionäre
DESCRIPTION:
URL:https://storenberg.ch/event/18-30-21-30-reservation-pensionaere-20/
CATEGORIES:Reserviert für Pensionäre
END:VEVENT
BEGIN:VEVENT
DTSTART;TZID=Europe/Zurich:20240517T103000
DTEND;TZID=Europe/Zurich:20240517T113000
DTSTAMP:20260419T154955
CREATED:20240425T083601Z
LAST-MODIFIED:20240425T083601Z
UID:30362-1715941800-1715945400@storenberg.ch
SUMMARY:10.30-11.30 Hallenpflege
DESCRIPTION:
URL:https://storenberg.ch/event/10-30-11-30-hallenpflege-14/
CATEGORIES:Hallenpflege
END:VEVENT
BEGIN:VEVENT
DTSTART;TZID=Europe/Zurich:20240520T093000
DTEND;TZID=Europe/Zurich:20240520T103000
DTSTAMP:20260419T154955
CREATED:20240425T082343Z
LAST-MODIFIED:20240425T082343Z
UID:30338-1716197400-1716201000@storenberg.ch
SUMMARY:09.30-10.30 Reservation J.B.
DESCRIPTION:
URL:https://storenberg.ch/event/09-30-10-30-reservation-j-b-31/
CATEGORIES:Reserviert
END:VEVENT
BEGIN:VEVENT
DTSTART;TZID=Europe/Zurich:20240521T103000
DTEND;TZID=Europe/Zurich:20240521T113000
DTSTAMP:20260419T154955
CREATED:20240425T083626Z
LAST-MODIFIED:20240425T083626Z
UID:30364-1716287400-1716291000@storenberg.ch
SUMMARY:10.30-11.30 Hallenpflege
DESCRIPTION:
URL:https://storenberg.ch/event/10-30-11-30-hallenpflege-15/
CATEGORIES:Hallenpflege
END:VEVENT
BEGIN:VEVENT
DTSTART;TZID=Europe/Zurich:20240521T173000
DTEND;TZID=Europe/Zurich:20240521T183000
DTSTAMP:20260419T154955
CREATED:20240425T082030Z
LAST-MODIFIED:20240425T082030Z
UID:30332-1716312600-1716316200@storenberg.ch
SUMMARY:17.30-18.30 Reservation J.S.
DESCRIPTION:
URL:https://storenberg.ch/event/17-30-18-30-reservation-j-s-3/
CATEGORIES:Reserviert
END:VEVENT
BEGIN:VEVENT
DTSTART;TZID=Europe/Zurich:20240521T183000
DTEND;TZID=Europe/Zurich:20240521T213000
DTSTAMP:20260419T154955
CREATED:20240425T084426Z
LAST-MODIFIED:20240425T084426Z
UID:30378-1716316200-1716327000@storenberg.ch
SUMMARY:18.30-21.30 Reservation Pensionäre
DESCRIPTION:
URL:https://storenberg.ch/event/18-30-21-30-reservation-pensionaere-18/
CATEGORIES:Reserviert für Pensionäre
END:VEVENT
BEGIN:VEVENT
DTSTART;TZID=Europe/Zurich:20240523T133000
DTEND;TZID=Europe/Zurich:20240523T150000
DTSTAMP:20260419T154955
CREATED:20240409T120649Z
LAST-MODIFIED:20240409T120649Z
UID:30299-1716471000-1716476400@storenberg.ch
SUMMARY:13.30-15.00 Reservation B.H.
DESCRIPTION:
URL:https://storenberg.ch/event/13-30-15-00-reservation-b-h/
CATEGORIES:Reserviert
END:VEVENT
BEGIN:VEVENT
DTSTART;TZID=Europe/Zurich:20240523T150000
DTEND;TZID=Europe/Zurich:20240523T160000
DTSTAMP:20260419T154955
CREATED:20240519T130122Z
LAST-MODIFIED:20240519T130213Z
UID:30459-1716476400-1716480000@storenberg.ch
SUMMARY:15.00-16.00 Reservation M.T.
DESCRIPTION:
URL:https://storenberg.ch/event/15-00-16-00-reservation-m-t/
CATEGORIES:Reserviert
END:VEVENT
BEGIN:VEVENT
DTSTART;TZID=Europe/Zurich:20240524T093000
DTEND;TZID=Europe/Zurich:20240524T103000
DTSTAMP:20260419T154955
CREATED:20240425T082559Z
LAST-MODIFIED:20240425T082559Z
UID:30348-1716543000-1716546600@storenberg.ch
SUMMARY:09.30-10.30 Reservation J.B.
DESCRIPTION:
URL:https://storenberg.ch/event/09-30-10-30-reservation-j-b-36/
CATEGORIES:Reserviert
END:VEVENT
BEGIN:VEVENT
DTSTART;TZID=Europe/Zurich:20240524T103000
DTEND;TZID=Europe/Zurich:20240524T113000
DTSTAMP:20260419T154955
CREATED:20240425T083648Z
LAST-MODIFIED:20240425T083648Z
UID:30366-1716546600-1716550200@storenberg.ch
SUMMARY:10.30-11.30 Hallenpflege
DESCRIPTION:
URL:https://storenberg.ch/event/10-30-11-30-hallenpflege-16/
CATEGORIES:Hallenpflege
END:VEVENT
BEGIN:VEVENT
DTSTART;TZID=Europe/Zurich:20240525T080000
DTEND;TZID=Europe/Zurich:20240525T170000
DTSTAMP:20260419T154955
CREATED:20240425T082751Z
LAST-MODIFIED:20240425T082751Z
UID:30352-1716624000-1716656400@storenberg.ch
SUMMARY:08.00-17.00 Reservation S.Z.
DESCRIPTION:
URL:https://storenberg.ch/event/08-00-17-00-reservation-s-z-3/
CATEGORIES:Reserviert
END:VEVENT
BEGIN:VEVENT
DTSTART;TZID=Europe/Zurich:20240527T093000
DTEND;TZID=Europe/Zurich:20240527T103000
DTSTAMP:20260419T154955
CREATED:20240425T082405Z
LAST-MODIFIED:20240425T082405Z
UID:30340-1716802200-1716805800@storenberg.ch
SUMMARY:09.30-10.30 Reservation J.B.
DESCRIPTION:
URL:https://storenberg.ch/event/09-30-10-30-reservation-j-b-32/
CATEGORIES:Reserviert
END:VEVENT
BEGIN:VEVENT
DTSTART;TZID=Europe/Zurich:20240528T103000
DTEND;TZID=Europe/Zurich:20240528T113000
DTSTAMP:20260419T154955
CREATED:20240425T083712Z
LAST-MODIFIED:20240425T083712Z
UID:30368-1716892200-1716895800@storenberg.ch
SUMMARY:10.30-11.30 Hallenpflege
DESCRIPTION:
URL:https://storenberg.ch/event/10-30-11-30-hallenpflege-17/
CATEGORIES:Hallenpflege
END:VEVENT
BEGIN:VEVENT
DTSTART;TZID=Europe/Zurich:20240528T180000
DTEND;TZID=Europe/Zurich:20240528T200000
DTSTAMP:20260419T154955
CREATED:20240428T072339Z
LAST-MODIFIED:20240428T072339Z
UID:30388-1716919200-1716926400@storenberg.ch
SUMMARY:18.00-20.00 Reservation C.H.
DESCRIPTION:
URL:https://storenberg.ch/event/18-00-20-00-reservation-c-h-2/
CATEGORIES:Reserviert
END:VEVENT
BEGIN:VEVENT
DTSTART;TZID=Europe/Zurich:20240530T103000
DTEND;TZID=Europe/Zurich:20240530T120000
DTSTAMP:20260419T154955
CREATED:20240425T084610Z
LAST-MODIFIED:20240425T084610Z
UID:30380-1717065000-1717070400@storenberg.ch
SUMMARY:10.30-12.00 Reservation B.B.
DESCRIPTION:
URL:https://storenberg.ch/event/10-30-12-00-reservation-b-b-2/
CATEGORIES:Reserviert
END:VEVENT
BEGIN:VEVENT
DTSTART;TZID=Europe/Zurich:20240530T150000
DTEND;TZID=Europe/Zurich:20240530T160000
DTSTAMP:20260419T154955
CREATED:20240519T130313Z
LAST-MODIFIED:20240519T130313Z
UID:30462-1717081200-1717084800@storenberg.ch
SUMMARY:15.00-16.00 M.T.
DESCRIPTION:
URL:https://storenberg.ch/event/15-00-16-00-m-t/
CATEGORIES:Reserviert
END:VEVENT
END:VCALENDAR